BEGIN:VCALENDAR
VERSION:2.0
PRODID:-//wp-events-plugin.com//7.2.3.1//EN
TZID:Europe/Berlin
X-WR-TIMEZONE:Europe/Berlin
BEGIN:VEVENT
UID:86@natierlich-fit.de
DTSTART;TZID=Europe/Berlin:20241107T090000
DTEND;TZID=Europe/Berlin:20241107T150000
DTSTAMP:20241004T155432Z
URL:https://natierlich-fit.de/veranstaltungen/alex-schmucker-2024/
SUMMARY:Sitzschulung mit Alexandra Schmucker
DESCRIPTION:Kurs mit Alexandra Schmucker | Reiten durch Leichtigkeit am 07.
 11. am Therapiehof Memmingen
ATTACH;FMTTYPE=image/jpeg:https://natierlich-fit.de/wp-content/uploads/202
 4/10/Titelbild-Alex.png
LOCATION:naTierlich fit!\, Stadtweiherstraße 88\, Memmingen\, Bayern\, 877
 00\, Deutschland
GEO:47.972924;10.171305
X-APPLE-STRUCTURED-LOCATION;VALUE=URI;X-ADDRESS=Stadtweiherstraße 88\, Mem
 mingen\, Bayern\, 87700\, Deutschland;X-APPLE-RADIUS=100;X-TITLE=naTierlic
 h fit!:geo:47.972924,10.171305
END:VEVENT
BEGIN:VTIMEZONE
TZID:Europe/Berlin
X-LIC-LOCATION:Europe/Berlin
BEGIN:STANDARD
DTSTART:20241027T020000
TZOFFSETFROM:+0200
TZOFFSETTO:+0100
TZNAME:CET
END:STANDARD
END:VTIMEZONE
END:VCALENDAR