BEGIN:VCALENDAR
VERSION:2.0
PRODID:-//wp-events-plugin.com//7.2.3.1//EN
TZID:Europe/Berlin
X-WR-TIMEZONE:Europe/Berlin
BEGIN:VEVENT
UID:79@natierlich-fit.de
DTSTART;TZID=Europe/Berlin:20241017T090000
DTEND;TZID=Europe/Berlin:20241018T190000
DTSTAMP:20241012T175143Z
URL:https://natierlich-fit.de/veranstaltungen/anna-jantscher-oktober/
SUMMARY:Trainingstage mit Anna Jantscher
DESCRIPTION:Kurs mit Anna Jantscher am 17. und 18.10. am Therapiehof Memmin
 gen
ATTACH;FMTTYPE=image/jpeg:https://natierlich-fit.de/wp-content/uploads/202
 4/08/Titelbild-Anna.png
LOCATION:naTierlich fit!\, Stadtweiherstraße 88\, Memmingen\, Bayern\, 877
 00\, Deutschland
GEO:47.972924;10.171305
X-APPLE-STRUCTURED-LOCATION;VALUE=URI;X-ADDRESS=Stadtweiherstraße 88\, Mem
 mingen\, Bayern\, 87700\, Deutschland;X-APPLE-RADIUS=100;X-TITLE=naTierlic
 h fit!:geo:47.972924,10.171305
END:VEVENT
BEGIN:VTIMEZONE
TZID:Europe/Berlin
X-LIC-LOCATION:Europe/Berlin
BEGIN:DAYLIGHT
DTSTART:20240331T030000
TZOFFSETFROM:+0100
TZOFFSETTO:+0200
TZNAME:CEST
END:DAYLIGHT
END:VTIMEZONE
END:VCALENDAR